BEGIN:VCALENDAR
VERSION:2.0
PRODID:-//Osho Pulsation Italia - ECPv6.15.18//NONSGML v1.0//EN
CALSCALE:GREGORIAN
METHOD:PUBLISH
X-ORIGINAL-URL:https://www.oshopulsation.it
X-WR-CALDESC:Eventi per Osho Pulsation Italia
REFRESH-INTERVAL;VALUE=DURATION:PT1H
X-Robots-Tag:noindex
X-PUBLISHED-TTL:PT1H
BEGIN:VTIMEZONE
TZID:UTC
BEGIN:STANDARD
TZOFFSETFROM:+0000
TZOFFSETTO:+0000
TZNAME:UTC
DTSTART:20150101T000000
END:STANDARD
END:VTIMEZONE
BEGIN:VEVENT
DTSTART;TZID=UTC:20161028T100000
DTEND;TZID=UTC:20161101T170000
DTSTAMP:20260421T103833
CREATED:20161021T185757Z
LAST-MODIFIED:20161023T091948Z
UID:185-1477648800-1478019600@www.oshopulsation.it
SUMMARY:Il corpo racconta la nostra storia. I tipi corporei di Wilhelm Reich
DESCRIPTION:Roma\, 29\, 30\, 31 ottobre e 1 novembre con Magna \nTu di che tipo sei? Geniale\, sensibile\, capace di prendersi cura degli altri\, organizzatore\, seduttivo\, perseverante\, energico\, destinato al successo?\nCome dimostrato dagli studi sui tipi corporei di Reich\, nell’adulto è possibile riconoscere una struttura fisica e psicologica che rispecchia i vissuti emotivi e rivela i compromessi accettati nel passato. \nIn questo gruppo imparerai a riconoscere le protezioni e le strategie che il tuo corpo-mente ha messo in atto per permettere al bambino che eri di crescere\, adattandosi all’ambiente familiare e al contesto sociale e culturale che ti circondava. \nIl gruppo si svolgerà presso l’Associazione Liber@mente\, le iscrizioni sono aperte fino al 25 ottobre! \nPer maggiori informazioni e contatti: leela@oshopulsation.it \n 
URL:https://www.oshopulsation.it/event/il-corpo-racconta-la-nostra-storia-i-tipi-corporei-di-wilhelm-reich
LOCATION:Associazione Liber@mente\, via Frassinoro\, Vitinia\, Roma\, Italia
CATEGORIES:Workshop
ORGANIZER;CN="Leela":MAILTO:leela@oshopulsation.it
END:VEVENT
END:VCALENDAR